BEGIN:VCALENDAR
VERSION:2.0
PRODID:-//Luxev Digital Consulting - ECPv6.15.20//NONSGML v1.0//EN
CALSCALE:GREGORIAN
METHOD:PUBLISH
X-WR-CALNAME:Luxev Digital Consulting
X-ORIGINAL-URL:https://app.luxevsys.com
X-WR-CALDESC:Events for Luxev Digital Consulting
REFRESH-INTERVAL;VALUE=DURATION:PT1H
X-Robots-Tag:noindex
X-PUBLISHED-TTL:PT1H
BEGIN:VTIMEZONE
TZID:America/Jamaica
BEGIN:STANDARD
TZOFFSETFROM:-0500
TZOFFSETTO:-0500
TZNAME:EST
DTSTART:20250101T000000
END:STANDARD
END:VTIMEZONE
BEGIN:VEVENT
DTSTART;TZID=America/Jamaica:20260503T090000
DTEND;TZID=America/Jamaica:20260503T130000
DTSTAMP:20260421T103946
CREATED:20260311T173600Z
LAST-MODIFIED:20260311T173600Z
UID:624-1777798800-1777813200@app.luxevsys.com
SUMMARY:Where Cardiology Meets Endocrinology Webinar
DESCRIPTION:The 7th Installment\nBridging the Gap: Cardiology & Endocrinology \nJoin us for an insightful webinar as we explore the profound intersection of cardiovascular health and endocrine disorders. This session will delve into the impact of diabetes\, thyroid dysfunction\, hormonal imbalances\, and obesity on heart function and cardiovascular risk. \nWe are honored to feature a distinguished panel of experts who will share clinical pearls\, latest guidelines\, and real-world case studies to help practitioners navigate these complex comorbidities. Special focus will be given to obesity as a critical cardiovascular risk factor and strategies for comprehensive metabolic and cardiovascular management. \n\nObesity and cardiovascular risk: assessment and management strategies.\nLatest guidelines on SGLT2 inhibitors and GLP-1 agonists.\nManaging cardiovascular risk in diabetic patients.\nInteractive Q&A with leading specialists.
URL:https://app.luxevsys.com/e/where-cardiology-meets-endocrinology-webinar/
LOCATION:Terra Nova Hotel\, 17 Waterloo Road\, Kingston\, Saint Andrew\, Jamaica
END:VEVENT
END:VCALENDAR